BEGIN:VCALENDAR
VERSION:2.0
PRODID:-//she leads AN - ECPv6.15.20//NONSGML v1.0//EN
CALSCALE:GREGORIAN
METHOD:PUBLISH
X-WR-CALNAME:she leads AN
X-ORIGINAL-URL:https://sheleads-an.de
X-WR-CALDESC:Veranstaltungen für she leads AN
REFRESH-INTERVAL;VALUE=DURATION:PT1H
X-Robots-Tag:noindex
X-PUBLISHED-TTL:PT1H
BEGIN:VTIMEZONE
TZID:Europe/Berlin
BEGIN:DAYLIGHT
TZOFFSETFROM:+0100
TZOFFSETTO:+0200
TZNAME:CEST
DTSTART:20240331T010000
END:DAYLIGHT
BEGIN:STANDARD
TZOFFSETFROM:+0200
TZOFFSETTO:+0100
TZNAME:CET
DTSTART:20241027T010000
END:STANDARD
BEGIN:DAYLIGHT
TZOFFSETFROM:+0100
TZOFFSETTO:+0200
TZNAME:CEST
DTSTART:20250330T010000
END:DAYLIGHT
BEGIN:STANDARD
TZOFFSETFROM:+0200
TZOFFSETTO:+0100
TZNAME:CET
DTSTART:20251026T010000
END:STANDARD
BEGIN:DAYLIGHT
TZOFFSETFROM:+0100
TZOFFSETTO:+0200
TZNAME:CEST
DTSTART:20260329T010000
END:DAYLIGHT
BEGIN:STANDARD
TZOFFSETFROM:+0200
TZOFFSETTO:+0100
TZNAME:CET
DTSTART:20261025T010000
END:STANDARD
END:VTIMEZONE
BEGIN:VEVENT
DTSTART;TZID=Europe/Berlin:20251120T190000
DTEND;TZID=Europe/Berlin:20251120T210000
DTSTAMP:20260421T102119
CREATED:20251112T202520Z
LAST-MODIFIED:20251113T080232Z
UID:1394-1763665200-1763672400@sheleads-an.de
SUMMARY:Human Design im Business - by Sandra Jessen
DESCRIPTION:✨ 1 Stunde Impulsvortrag | 1 Stunde interaktive Gesprächsrunde \nIn einer sich ständig wandelnden Arbeitswelt ist es entscheidend\, sich selbst und andere besser zu verstehen. Human Design bietet einen einzigartigen Zugang zu deiner inneren Struktur – und zeigt dir\, wie du im Business / Arbeitsalltag authentisch\, effizient und gesund agieren kannst. \n🔍 Was dich erwartet: \n\n1h inspirierender Vortrag: Einführung in die Grundlagen des Human Design – praxisnah\, verständlich und auf die Arbeitswelt zugeschnitten.\n1h offene Gesprächsrunde: Stelle deine Fragen\, teile Erfahrungen und erhalte individuelle Impulse.\nAm Ende gibt es noch ein Give-Away welches Sandra liebevoll für euch zusammengestellt hat und euch im Alltag hilft euren Human Design Typ besser zu leben.\n\n📌 Vorbereitung: \nErstelle vorab dein persönliches Human Design Chart – so kannst du während des Vortrags direkt deine eigenen Potenziale\, Herausforderungen und Strategien erkennen. \n💡 Typische Fragen\, die wir gemeinsam beleuchten: \n\nWie treffe ich am besten Entscheidungen?\nWie kommuniziere ich klar und wirkungsvoll?\nWie gehe ich mit Herausforderungen und Stress um?\nWie kann ich meine Mitarbeiter/Kollegen besser verstehen und führen?\nWas brauche ich\, um mich wirklich zu erholen?\n\nDein Chart erstellst du hier: Chart erstellen \n🎯 Zielgruppe: \nFührungskräfte\, Selbstständige\, Teams & alle\, die sich selbst und andere im beruflichen Kontext besser verstehen möchten. \nHier gehts zur Buchung
URL:https://sheleads-an.de/event/human-design-im-business-by-sandra-jessen/
LOCATION:Online Vortrag\, Germany
ATTACH;FMTTYPE=image/png:https://sheleads-an.de/wp-content/uploads/2025/11/Human-Design_Sandra-Jessen.png
ORGANIZER;CN="she leads AN":MAILTO:team@sheleads-an.de
END:VEVENT
END:VCALENDAR